BEGIN:VCALENDAR
VERSION:2.0
PRODID:-//eventon.com NONSGML v1.0//EN
CALSCALE:GREGORIAN
METHOD:PUBLISH
BEGIN:VEVENT
UID:69e734e2c3cde
DTSTAMP:20260421T082714Z
DTSTART:20260318T002200Z
DTEND:20260319T002200Z
LOCATION:RoyalFloraHolland
SUMMARY:Flora Spring Expo
DESCRIPTION:\nhttps://blunt.nl/events/flora-spring-expo/
URL:https://blunt.nl/events/flora-spring-expo/
END:VEVENT
END:VCALENDAR