BEGIN:VCALENDAR
VERSION:2.0
PRODID:-//eventon.com NONSGML v1.0//EN
CALSCALE:GREGORIAN
METHOD:PUBLISH
BEGIN:VEVENT
UID:69e5e3baba4b8
DTSTAMP:20260420T082842Z
DTSTART:20260324T001900Z
DTEND:20260326T001900Z
LOCATION:Addis International Convention Center
SUMMARY:Hortiflora
DESCRIPTION:\nhttps://blunt.nl/events/hortiflora/
URL:https://blunt.nl/events/hortiflora/
END:VEVENT
END:VCALENDAR