BEGIN:VCALENDAR
VERSION:2.0
PRODID:-//eventon.com NONSGML v1.0//EN
CALSCALE:GREGORIAN
METHOD:PUBLISH
BEGIN:VEVENT
UID:69e5e42e796c3
DTSTAMP:20260420T083038Z
DTSTART:20260203T000000Z
DTEND:20260204T000000Z
LOCATION:International Trade Center Hazerswoude/Boskoop
SUMMARY:PLANTARIUM|GROEN-Direkt Voorjaarsbeurs
DESCRIPTION:\nhttps://blunt.nl/events/plantariumgroen-direkt-voorjaarsbeurs
 /
URL:https://blunt.nl/events/plantariumgroen-direkt-voorjaarsbeurs/
END:VEVENT
END:VCALENDAR